BEGIN:VCALENDAR
VERSION:2.0
PRODID:-//Plone.org//NONSGML plone.app.event//EN
X-WR-TIMEZONE:US/Central
BEGIN:VEVENT
SUMMARY:Adult Watercolor Class
DTSTART;TZID=US/Central:20260328T110000
DTEND;TZID=US/Central:20260328T120000
DTSTAMP:20260425T154834Z
UID:06dc9c56c90f40dbad65081ad473ccf2@saas_stack_varnish:6080
CREATED:20260226T212915Z
DESCRIPTION:Join us for an hour or so of watercolor painting! Instruction 
 is provided by video\, and all materials are provided by the Friends of th
 e Jeff Davis County Library. This program is for adults only. All skill le
 vels are welcome!
LAST-MODIFIED:20260226T212925Z
URL:https://jeffdaviscountylibrary.ploud.net/news-events/lib-cal/adult-wat
 ercolor-class-15
END:VEVENT
BEGIN:VTIMEZONE
TZID:US/Central
X-LIC-LOCATION:US/Central
BEGIN:DAYLIGHT
DTSTART:20260308T030000
TZNAME:CDT
TZOFFSETFROM:-0600
TZOFFSETTO:-0500
END:DAYLIGHT
END:VTIMEZONE
END:VCALENDAR
