BEGIN:VCALENDAR
VERSION:2.0
PRODID:-//Plone.org//NONSGML plone.app.event//EN
X-WR-TIMEZONE:US/Central
BEGIN:VEVENT
SUMMARY:Advanced Senior Fitness
DTSTART;TZID=US/Central:20251203T120000
DTEND;TZID=US/Central:20251203T130000
DTSTAMP:20260425T141058Z
UID:dae7c6a6eedf46e9ab7dfcaaddeec677@saas_stack_varnish:6080
RRULE:FREQ=WEEKLY;UNTIL=20251217T000000;BYDAY=WE
CREATED:20251122T150601Z
DESCRIPTION:The library is piloting a third day of fitness classes\, Advan
 ced Senior Fitness.  This class offers a more advanced strength training a
 nd cardiac workout than our regular Tuesday/Thursday classes\, so it is no
 t appropriate for beginners or those with injuries.
LAST-MODIFIED:20251122T150611Z
URL:https://jeffdaviscountylibrary.ploud.net/news-events/lib-cal/advanced-
 senior-fitness-1
END:VEVENT
BEGIN:VTIMEZONE
TZID:US/Central
X-LIC-LOCATION:US/Central
BEGIN:STANDARD
DTSTART:20251102T010000
TZNAME:CST
TZOFFSETFROM:-0500
TZOFFSETTO:-0600
END:STANDARD
END:VTIMEZONE
END:VCALENDAR
