BEGIN:VCALENDAR
VERSION:2.0
PRODID:-//Plone.org//NONSGML plone.app.event//EN
X-WR-TIMEZONE:US/Central
BEGIN:VEVENT
SUMMARY:Family Movie Night
DTSTART;TZID=US/Central:20170721T180000
DTEND;TZID=US/Central:20170721T200000
DTSTAMP:20260425T141221Z
UID:08c5ea5bf5ac4a909ef37a142ac39d50@saas_stack_varnish:6080
CONTACT:Gwin Grimes\, 432-426-3802\, library@co.jeff-davis.tx.us
CREATED:20170720T191841Z
DESCRIPTION:Disney's Beauty & the Beast
LAST-MODIFIED:20170720T192254Z
LOCATION:Jeff Davis County Library
URL:https://jeffdaviscountylibrary.ploud.net/news-events/lib-cal/family-mo
 vie-night
END:VEVENT
BEGIN:VTIMEZONE
TZID:US/Central
X-LIC-LOCATION:US/Central
BEGIN:DAYLIGHT
DTSTART:20170312T030000
TZNAME:CDT
TZOFFSETFROM:-0600
TZOFFSETTO:-0500
END:DAYLIGHT
END:VTIMEZONE
END:VCALENDAR
