BEGIN:VCALENDAR
VERSION:2.0
PRODID:-//Plone.org//NONSGML plone.app.event//EN
X-WR-TIMEZONE:US/Central
BEGIN:VEVENT
SUMMARY:Friends of the Library Monthly Meeting
DTSTART;TZID=US/Central:20251217T173000
DTEND;TZID=US/Central:20251217T183000
DTSTAMP:20260425T141348Z
UID:d15703ef552347cda41e4860cf9ebcce@saas_stack_varnish:6080
CREATED:20251122T152248Z
DESCRIPTION:All friends of the library are welcome to attend this public m
 eeting\, held in person at the library at 5:30 p.m. Individuals may also j
 oin the meeting by Zoom. Please contact the library for more information a
 bout joining by Zoom.
LAST-MODIFIED:20251122T152257Z
URL:https://jeffdaviscountylibrary.ploud.net/news-events/lib-cal/friends-o
 f-the-library-monthly-meeting-7
END:VEVENT
BEGIN:VTIMEZONE
TZID:US/Central
X-LIC-LOCATION:US/Central
BEGIN:STANDARD
DTSTART:20251102T010000
TZNAME:CST
TZOFFSETFROM:-0500
TZOFFSETTO:-0600
END:STANDARD
END:VTIMEZONE
END:VCALENDAR
