BEGIN:VCALENDAR
VERSION:2.0
PRODID:-//Plone.org//NONSGML plone.app.event//EN
X-WR-TIMEZONE:US/Central
BEGIN:VEVENT
SUMMARY:Friends of the Library Monthly Meeting
DTSTART;TZID=US/Central:20260311T170000
DTEND;TZID=US/Central:20260311T180000
DTSTAMP:20260425T141348Z
UID:defd50b072894e05baaea859a60e510d@saas_stack_varnish:6080
CREATED:20260226T212432Z
DESCRIPTION:All friends of the library are welcome to attend this public m
 eeting\, held in person at the library at 5:00 p.m. Individuals may also j
 oin the meeting by Zoom. Please contact the library for more information a
 bout joining by Zoom.
LAST-MODIFIED:20260226T212459Z
URL:https://jeffdaviscountylibrary.ploud.net/news-events/lib-cal/friends-o
 f-the-library-monthly-meeting-8
END:VEVENT
BEGIN:VTIMEZONE
TZID:US/Central
X-LIC-LOCATION:US/Central
BEGIN:DAYLIGHT
DTSTART:20260308T030000
TZNAME:CDT
TZOFFSETFROM:-0600
TZOFFSETTO:-0500
END:DAYLIGHT
END:VTIMEZONE
END:VCALENDAR
