BEGIN:VCALENDAR
VERSION:2.0
PRODID:-//Plone.org//NONSGML plone.app.event//EN
X-WR-TIMEZONE:US/Central
BEGIN:VEVENT
SUMMARY:Holiday Sing-Along!
DTSTART;TZID=US/Central:20251213T160000
DTEND;TZID=US/Central:20251213T170000
DTSTAMP:20260425T140846Z
UID:f0795ece767f44c68542d9b1b1d16968@saas_stack_varnish:6080
CREATED:20251122T151245Z
DESCRIPTION:Get into the holiday spirit with your friends at the library! 
  You're invited to join us for a FREE holiday gathering featuring literary
  readings and caroling.
LAST-MODIFIED:20251122T151256Z
URL:https://jeffdaviscountylibrary.ploud.net/news-events/lib-cal/holiday-s
 ing-along
END:VEVENT
BEGIN:VTIMEZONE
TZID:US/Central
X-LIC-LOCATION:US/Central
BEGIN:STANDARD
DTSTART:20251102T010000
TZNAME:CST
TZOFFSETFROM:-0500
TZOFFSETTO:-0600
END:STANDARD
END:VTIMEZONE
END:VCALENDAR
