BEGIN:VCALENDAR
VERSION:2.0
PRODID:-//Plone.org//NONSGML plone.app.event//EN
X-WR-TIMEZONE:US/Central
BEGIN:VEVENT
SUMMARY:Library Closed for Christmas
DTSTART;VALUE=DATE:20251225
DTEND;VALUE=DATE:20251226
DTSTAMP:20260425T135834Z
UID:b1928443b8cb4d07b44cb29de4d4f0a9@saas_stack_varnish:6080
CREATED:20251122T151834Z
DESCRIPTION:The library is closed all day for the Christmas holiday.
LAST-MODIFIED:20251122T151842Z
URL:https://jeffdaviscountylibrary.ploud.net/news-events/lib-cal/library-c
 losed-for-christmas-2
END:VEVENT
END:VCALENDAR
