BEGIN:VCALENDAR
VERSION:2.0
PRODID:-//Plone.org//NONSGML plone.app.event//EN
X-WR-TIMEZONE:US/Central
BEGIN:VEVENT
SUMMARY:Library Closed for Christmas
DTSTART;VALUE=DATE:20251226
DTEND;VALUE=DATE:20251227
DTSTAMP:20260425T135834Z
UID:420553b4144748588a7165bc3a4b7d10@saas_stack_varnish:6080
CREATED:20251122T151924Z
DESCRIPTION:The library is closed all day for the Christmas holiday.
LAST-MODIFIED:20251122T151933Z
URL:https://jeffdaviscountylibrary.ploud.net/news-events/lib-cal/library-c
 losed-for-christmas-3
END:VEVENT
END:VCALENDAR
