BEGIN:VCALENDAR
VERSION:2.0
PRODID:-//Plone.org//NONSGML plone.app.event//EN
X-WR-TIMEZONE:US/Central
BEGIN:VEVENT
SUMMARY:Library Closed for Christmas
DTSTART;VALUE=DATE:20251227
DTEND;VALUE=DATE:20251228
DTSTAMP:20260425T135845Z
UID:2e7f8c5c03b7411bb4b2abf6e99831b6@saas_stack_varnish:6080
CREATED:20251122T152025Z
DESCRIPTION:The library is closed all day for the Christmas holiday.
LAST-MODIFIED:20251122T152033Z
URL:https://jeffdaviscountylibrary.ploud.net/news-events/lib-cal/library-c
 losed-for-christmas-4
END:VEVENT
END:VCALENDAR
