BEGIN:VCALENDAR
VERSION:2.0
PRODID:-//Plone.org//NONSGML plone.app.event//EN
X-WR-TIMEZONE:US/Central
BEGIN:VEVENT
SUMMARY:Library Closed for Christmas
DTSTART;VALUE=DATE:20251224
DTEND;VALUE=DATE:20251225
DTSTAMP:20260425T141022Z
UID:13a325dc445345bead0a3811f1649a73@saas_stack_varnish:6080
CREATED:20251122T151513Z
DESCRIPTION:The library is closed all day for the Christmas holiday.
LAST-MODIFIED:20251122T151620Z
URL:https://jeffdaviscountylibrary.ploud.net/news-events/lib-cal/library-c
 losed-for-christmas
END:VEVENT
END:VCALENDAR
