BEGIN:VCALENDAR
VERSION:2.0
PRODID:-//Plone.org//NONSGML plone.app.event//EN
X-WR-TIMEZONE:US/Central
BEGIN:VEVENT
SUMMARY:Library Closure: Texas Independence Day
DTSTART;VALUE=DATE:20260302
DTEND;VALUE=DATE:20260303
DTSTAMP:20260425T135733Z
UID:3a04237067b04af487a0910dab790068@saas_stack_varnish:6080
CREATED:20260221T224635Z
DESCRIPTION:The library will be closed Monday\, March 2nd in honor of Texa
 s Independence Day. We will reopen on Tuesday\, March 3rd at 9:00 a.m.
LAST-MODIFIED:20260221T224657Z
URL:https://jeffdaviscountylibrary.ploud.net/news-events/lib-cal/library-c
 losure-texas-independence-day
END:VEVENT
END:VCALENDAR
