BEGIN:VCALENDAR
VERSION:2.0
PRODID:-//Plone.org//NONSGML plone.app.event//EN
X-WR-TIMEZONE:US/Central
BEGIN:VEVENT
SUMMARY:Senior Fitness
DTSTART;TZID=US/Central:20260319T130000
DTEND;TZID=US/Central:20260319T140000
DTSTAMP:20260425T154633Z
UID:f2580effa4224f9d9ae800d233d9c055@saas_stack_varnish:6080
CREATED:20260226T211504Z
DESCRIPTION:Classes include stretching\, strength training\, and light aer
 obic exercise in a casual\, fun setting. Everyone is welcome\, and all exe
 rcises can be modified according to fitness level and ability.
LAST-MODIFIED:20260226T211513Z
URL:https://jeffdaviscountylibrary.ploud.net/news-events/lib-cal/senior-fi
 tness-21
END:VEVENT
BEGIN:VTIMEZONE
TZID:US/Central
X-LIC-LOCATION:US/Central
BEGIN:DAYLIGHT
DTSTART:20260308T030000
TZNAME:CDT
TZOFFSETFROM:-0600
TZOFFSETTO:-0500
END:DAYLIGHT
END:VTIMEZONE
END:VCALENDAR
