BEGIN:VCALENDAR
VERSION:2.0
PRODID:-//Plone.org//NONSGML plone.app.event//EN
X-WR-TIMEZONE:US/Central
BEGIN:VEVENT
SUMMARY:Spring into Good Health!
DTSTART;TZID=US/Central:20260325T150000
DTEND;TZID=US/Central:20260325T160000
DTSTAMP:20260425T135733Z
UID:d6984a65b00046e98b8de54ab045245c@saas_stack_varnish:6080
CREATED:20260226T214624Z
DESCRIPTION:Join us for a health awareness forum featuring representatives
  from UNT Health Fort Worth's Texas Center for Patient Safety\, the Americ
 an Heart Association\, and the Davis Mountain Clinic. Lots of great inform
 ation and helpful freebies will be shared!
LAST-MODIFIED:20260226T222637Z
URL:https://jeffdaviscountylibrary.ploud.net/news-events/lib-cal/spring-in
 to-good-health
END:VEVENT
BEGIN:VTIMEZONE
TZID:US/Central
X-LIC-LOCATION:US/Central
BEGIN:DAYLIGHT
DTSTART:20260308T030000
TZNAME:CDT
TZOFFSETFROM:-0600
TZOFFSETTO:-0500
END:DAYLIGHT
END:VTIMEZONE
END:VCALENDAR
