BEGIN:VCALENDAR
VERSION:2.0
PRODID:-//Plone.org//NONSGML plone.app.event//EN
X-WR-TIMEZONE:US/Central
BEGIN:VEVENT
SUMMARY:Story Time
DTSTART;TZID=US/Central:20251202T100000
DTEND;TZID=US/Central:20251202T110000
DTSTAMP:20260425T140852Z
UID:af0970b76fc34e0cb3f35f9b34e97471@saas_stack_varnish:6080
RRULE:FREQ=WEEKLY;UNTIL=20251230T000000;BYDAY=TU
EXDATE;TZID=US/Central:20251209T000000,20251223T000000
CREATED:20251122T150209Z
DESCRIPTION:In this hour-long program\, we read stories\, make crafts\, an
 d enjoy a snack. Story Time is every Tuesday\, except the 2nd Tuesday of e
 ach month. Caregivers must remain at the library for the duration of Story
  Time. Snacks are provided courtesy of the Kids' Food Pantry\, a collabora
 tion with the Food Pantry of Jeff Davis County.
LAST-MODIFIED:20251122T150219Z
URL:https://jeffdaviscountylibrary.ploud.net/news-events/lib-cal/story-tim
 e-10
END:VEVENT
BEGIN:VTIMEZONE
TZID:US/Central
X-LIC-LOCATION:US/Central
BEGIN:STANDARD
DTSTART:20251102T010000
TZNAME:CST
TZOFFSETFROM:-0500
TZOFFSETTO:-0600
END:STANDARD
END:VTIMEZONE
END:VCALENDAR
