BEGIN:VCALENDAR
VERSION:2.0
PRODID:-//Plone.org//NONSGML plone.app.event//EN
X-WR-TIMEZONE:US/Central
BEGIN:VEVENT
SUMMARY:Story Time
DTSTART;TZID=US/Central:20260303T100000
DTEND;TZID=US/Central:20260303T110000
DTSTAMP:20260425T154454Z
UID:69a77c618d4e4a0c8c824b093fbef9a7@saas_stack_varnish:6080
CREATED:20260226T205944Z
DESCRIPTION:In this hour-long program\, we read stories\, make a craft\, a
 nd enjoy a snack. Caregivers must remain at the library for the duration o
 f the program. Craft supplies are provided by the Friends of the Library\,
  and snacks are provided by the Kids' Food Pantry\, a collaboration with t
 he Food Pantry of Jeff Davis County.
LAST-MODIFIED:20260226T210003Z
URL:https://jeffdaviscountylibrary.ploud.net/news-events/lib-cal/story-tim
 e-13
END:VEVENT
BEGIN:VTIMEZONE
TZID:US/Central
X-LIC-LOCATION:US/Central
BEGIN:STANDARD
DTSTART:20251102T010000
TZNAME:CST
TZOFFSETFROM:-0500
TZOFFSETTO:-0600
END:STANDARD
END:VTIMEZONE
END:VCALENDAR
