BEGIN:VCALENDAR
VERSION:2.0
PRODID:-//Plone.org//NONSGML plone.app.event//EN
X-WR-TIMEZONE:US/Central
BEGIN:VEVENT
SUMMARY:Story Time
DTSTART;TZID=US/Central:20260317T100000
DTEND;TZID=US/Central:20260317T110000
DTSTAMP:20260425T135726Z
UID:544ba03289534427a77235125c83f9b2@saas_stack_varnish:6080
CREATED:20260226T210347Z
DESCRIPTION:In this hour-long program\, we read stories\, make a craft\, a
 nd enjoy a snack. Caregivers must remain at the library for the duration o
 f the program. Craft supplies are provided by the Friends of the Library\,
  and snacks are provided by the Kids' Food Pantry\, a collaboration with t
 he Food Pantry of Jeff Davis County.
LAST-MODIFIED:20260226T210356Z
URL:https://jeffdaviscountylibrary.ploud.net/news-events/lib-cal/story-tim
 e-14
END:VEVENT
BEGIN:VTIMEZONE
TZID:US/Central
X-LIC-LOCATION:US/Central
BEGIN:DAYLIGHT
DTSTART:20260308T030000
TZNAME:CDT
TZOFFSETFROM:-0600
TZOFFSETTO:-0500
END:DAYLIGHT
END:VTIMEZONE
END:VCALENDAR
