BEGIN:VCALENDAR
VERSION:2.0
PRODID:-//Plone.org//NONSGML plone.app.event//EN
X-WR-TIMEZONE:US/Central
BEGIN:VEVENT
SUMMARY:Story Time
DTSTART;TZID=US/Central:20260324T100000
DTEND;TZID=US/Central:20260324T110000
DTSTAMP:20260425T140936Z
UID:64012bde6d0e4c5dafb59ece5443e312@saas_stack_varnish:6080
CREATED:20260226T210448Z
DESCRIPTION:In this hour-long program\, we read stories\, make a craft\, a
 nd enjoy a snack. Caregivers must remain at the library for the duration o
 f the program. Craft supplies are provided by the Friends of the Library\,
  and snacks are provided by the Kids' Food Pantry\, a collaboration with t
 he Food Pantry of Jeff Davis County.
LAST-MODIFIED:20260226T210458Z
URL:https://jeffdaviscountylibrary.ploud.net/news-events/lib-cal/story-tim
 e-15
END:VEVENT
BEGIN:VTIMEZONE
TZID:US/Central
X-LIC-LOCATION:US/Central
BEGIN:DAYLIGHT
DTSTART:20260308T030000
TZNAME:CDT
TZOFFSETFROM:-0600
TZOFFSETTO:-0500
END:DAYLIGHT
END:VTIMEZONE
END:VCALENDAR
