BEGIN:VCALENDAR
VERSION:2.0
PRODID:-//Plone.org//NONSGML plone.app.event//EN
X-WR-TIMEZONE:US/Central
BEGIN:VEVENT
SUMMARY:The Feather Wars and the Great Crusade to Save America's Birds
DTSTART;TZID=US/Central:20260318T160000
DTEND;TZID=US/Central:20260318T170000
DTSTAMP:20260425T140858Z
UID:4043585a9e3741d2a1172028a0fc8c4f@saas_stack_varnish:6080
CREATED:20260226T213907Z
DESCRIPTION:James McCommons\, author and professor emeritus at Northern Mi
 chigan University\, will discuss his new book\, "The Feather Wars and the 
 Great Crusade to Save America's Birds." An entertaining and expansive work
 \, "The Feather Wars" is an incredible story about how disparate character
 s -- progressive politicians\, free-thinking society belles\, nature write
 rs and artists\, bird-loving U.S. presidents\, gunmakers\, business titans
 \, and brave game wardens -- came together to save hundreds of species of 
 birds. Local bookseller\, Front Street Books\, will be on hand with copies
  of the book for purchase.
LAST-MODIFIED:20260226T214123Z
URL:https://jeffdaviscountylibrary.ploud.net/news-events/lib-cal/the-feath
 er-wars-author-talk
END:VEVENT
BEGIN:VTIMEZONE
TZID:US/Central
X-LIC-LOCATION:US/Central
BEGIN:DAYLIGHT
DTSTART:20260308T030000
TZNAME:CDT
TZOFFSETFROM:-0600
TZOFFSETTO:-0500
END:DAYLIGHT
END:VTIMEZONE
END:VCALENDAR
