BEGIN:VCALENDAR
VERSION:2.0
PRODID:-//Plone.org//NONSGML plone.app.event//EN
X-WR-TIMEZONE:US/Central
BEGIN:VEVENT
SUMMARY:Wednesday Matinee Book Club
DTSTART;TZID=US/Central:20251203T133000
DTEND;TZID=US/Central:20251203T143000
DTSTAMP:20260425T141159Z
UID:940b2bbe81404fd3ac6f705170e84b80@saas_stack_varnish:6080
CREATED:20251122T150845Z
DESCRIPTION:The Wednesday Matinee Book Club meets on the first Wednesday o
 f the month. There's an option to attend in person at the library or onlin
 e via Zoom. In December\, book club members discuss their favorite books o
 f the year.  Bring your list to share! Call the library at 432-426-3802 fo
 r additional information or to request the Zoom link to join online.
LAST-MODIFIED:20251122T150855Z
URL:https://jeffdaviscountylibrary.ploud.net/news-events/lib-cal/wednesday
 -matinee-book-club-7
END:VEVENT
BEGIN:VTIMEZONE
TZID:US/Central
X-LIC-LOCATION:US/Central
BEGIN:STANDARD
DTSTART:20251102T010000
TZNAME:CST
TZOFFSETFROM:-0500
TZOFFSETTO:-0600
END:STANDARD
END:VTIMEZONE
END:VCALENDAR
