BEGIN:VCALENDAR
VERSION:2.0
PRODID:-//Plone.org//NONSGML plone.app.event//EN
X-WR-TIMEZONE:US/Central
BEGIN:VEVENT
SUMMARY:Wednesday Matinee Book Club
DTSTART;TZID=US/Central:20260204T133000
DTEND;TZID=US/Central:20260204T143000
DTSTAMP:20260425T141159Z
UID:c4a372402cd144efb53e3cf1a253cf97@saas_stack_varnish:6080
CREATED:20260109T161239Z
DESCRIPTION:The Wednesday Matinee Book Club meets on the first Wednesday o
 f the month. There's an option to attend in person at the library or onlin
 e via Zoom. The February book is "The Little Liar" by Mitch Albom. Call th
 e library at 432-426-3802 for additional information or to request the Zoo
 m link to join online.
LAST-MODIFIED:20260109T161319Z
URL:https://jeffdaviscountylibrary.ploud.net/news-events/lib-cal/wednesday
 -matinee-book-club-9
END:VEVENT
BEGIN:VTIMEZONE
TZID:US/Central
X-LIC-LOCATION:US/Central
BEGIN:STANDARD
DTSTART:20251102T010000
TZNAME:CST
TZOFFSETFROM:-0500
TZOFFSETTO:-0600
END:STANDARD
END:VTIMEZONE
END:VCALENDAR
